BEGIN:VCALENDAR
VERSION:2.0
PRODID:-//ChamberMaster//Event Calendar 2.0//EN
METHOD:PUBLISH
X-PUBLISHED-TTL:P3D
REFRESH-INTERVAL:P3D
CALSCALE:GREGORIAN
BEGIN:VEVENT
DTSTART:20231006T130000Z
DTEND:20231006T210000Z
X-MICROSOFT-CDO-ALLDAYEVENT:FALSE
SUMMARY:Liberty Days
DESCRIPTION:Join the National Stars and Stripes Museum/Library for an exciting experience at the 11th Annual Liberty Days Event\, A Living History Timeline Adventure on October 6th and 7th from 8:00AM - 4:00PM! This free event is perfect for families and history enthusiasts with over 20 demonstrations showcasing life from the Revolutionary War to the modern era. Interact with costumed interpreters and explore various encampments. Don't forget to indulge in the food trucks\, dessert silent auction\, and kids' and pet photo contests! This event is made possible by the Poplar Bluff Chapter of the Daughters of the American Revolution\, Crowley's Ridge Blackpowder Club\, the Turner Brigade and the 10th Armored Division. Come out and experience history in a new way!
X-ALT-DESC;FMTTYPE=text/html:Join the National Stars and Stripes Museum/Library for an exciting experience at the 11th Annual Liberty Days Event\, A Living History Timeline Adventure on October 6th and 7th from 8:00AM - 4:00PM! This free event is perfect for families and history enthusiasts with over 20 demonstrations showcasing life from the Revolutionary War to the modern era. Interact with costumed interpreters and explore various encampments. Don&#39\;t forget to indulge in the food trucks\, dessert silent auction\, and kids&#39\; and pet photo contests! This event is made possible by the Poplar Bluff Chapter of the Daughters of the American Revolution\, Crowley&#39\;s Ridge Blackpowder Club\, the Turner Brigade and the 10th Armored Division. Come out and experience history in a new way!&nbsp\;
LOCATION:National Stars and Stripes Museum and Library 17377 Stars and Stripes Way\, Bloomfield\, Mo 63825
UID:e.2680.5412
SEQUENCE:3
DTSTAMP:20260421T113146Z
URL:https://data.visitdexter.com/events/details/liberty-days-5412
END:VEVENT

END:VCALENDAR
