BEGIN:VCALENDAR
VERSION:2.0
PRODID:-//ChamberMaster//Event Calendar 2.0//EN
METHOD:PUBLISH
X-PUBLISHED-TTL:P3D
REFRESH-INTERVAL:P3D
CALSCALE:GREGORIAN
BEGIN:VEVENT
DTSTART:20200613T010000Z
DTEND:20200613T030000Z
X-MICROSOFT-CDO-ALLDAYEVENT:FALSE
SUMMARY:Gone Batty
DESCRIPTION:Nothing like possibly getting an up close and personal experience with a live bat!  This could be a once in a lifetime chance.  Join Natural Resources Specialist Park Rangers d the U.S. Forest Service as they share the significance and unique characteristics of the bats we have in this area.  This will also include a short hike up the Greenville Bike Trail to see if there are any bats in trap nets.  Be sure to bring you're flashlights and bug spray.
X-ALT-DESC;FMTTYPE=text/html:Nothing like possibly getting an up close and personal experience with a live bat!&nbsp\; This could be a once in a lifetime chance.&nbsp\; Join Natural Resources Specialist Park Rangers d the U.S. Forest Service as they share the significance and unique characteristics of the bats we have in this area.&nbsp\; This will also include a short hike up the Greenville Bike Trail to see if there are any bats in trap nets.&nbsp\; Be sure to bring you&#39\;re flashlights and bug spray.
LOCATION:Greenville Campground Sites 102 & 103
UID:e.2680.4904
SEQUENCE:3
DTSTAMP:20260425T102229Z
URL:https://data.visitdexter.com/events/details/gone-batty-4904
END:VEVENT

END:VCALENDAR
