BEGIN:VCALENDAR
VERSION:2.0
PRODID:-//ChamberMaster//Event Calendar 2.0//EN
METHOD:PUBLISH
X-PUBLISHED-TTL:P3D
REFRESH-INTERVAL:P3D
CALSCALE:GREGORIAN
BEGIN:VEVENT
DTSTART:20190823T230000Z
DTEND:20190824T010000Z
X-MICROSOFT-CDO-ALLDAYEVENT:FALSE
SUMMARY:Football Jamboree
DESCRIPTION:Dexter Bearcat Football Jamboree
X-ALT-DESC;FMTTYPE=text/html:<strong>Dexter Bearcat Football Jamboree</strong>
LOCATION:Location to be announced
UID:e.2680.4709
SEQUENCE:3
DTSTAMP:20260425T224658Z
URL:https://data.visitdexter.com/events/details/football-jamboree-4709
END:VEVENT

END:VCALENDAR
