BEGIN:VCALENDAR
VERSION:2.0
PRODID:-//ChamberMaster//Event Calendar 2.0//EN
METHOD:PUBLISH
X-PUBLISHED-TTL:P3D
REFRESH-INTERVAL:P3D
CALSCALE:GREGORIAN
BEGIN:VEVENT
DTSTART;VALUE=DATE:20211224
DTEND;VALUE=DATE:20211225
TRANSP:TRANSPARENT
X-MICROSOFT-CDO-ALLDAYEVENT:TRUE
SUMMARY:City of Dexter Offices closed for Christmas Holiday
DESCRIPTION:City of Dexter Office closes at noon on 12/23/2021 for Christmas Holiday
X-ALT-DESC;FMTTYPE=text/html:City of Dexter Office closes at noon on 12/23/2021 for Christmas Holiday
LOCATION:
UID:e.2680.5124
SEQUENCE:3
DTSTAMP:20260422T020413Z
URL:https://data.visitdexter.com/events/details/city-of-dexter-offices-closed-for-christmas-holiday-5124
END:VEVENT

END:VCALENDAR
