BEGIN:VCALENDAR
VERSION:2.0
PRODID:-//ChamberMaster//Event Calendar 2.0//EN
METHOD:PUBLISH
X-PUBLISHED-TTL:P3D
REFRESH-INTERVAL:P3D
CALSCALE:GREGORIAN
BEGIN:VEVENT
DTSTART:20221122T161500Z
DTEND:20221122T180000Z
X-MICROSOFT-CDO-ALLDAYEVENT:FALSE
SUMMARY:Children's Story Hour
DESCRIPTION:Please join us for Children's Story Hour! \n\nOld Lady Who Swallowed a Pie and Five Silly Turkeys - Presented by Teresa Overall from Mother to Mother and the Regional Healthcare Foundation
X-ALT-DESC;FMTTYPE=text/html:Please join us for Children&#39\;s Story Hour!&nbsp\;<br />\nOld Lady Who Swallowed a Pie and Five Silly Turkeys - Presented by Teresa Overall from Mother to Mother and the Regional Healthcare Foundation
LOCATION:Keller Public Library 402 West Grant Dexter\, MO 63841
UID:e.2680.5299
SEQUENCE:3
DTSTAMP:20260420T064819Z
URL:https://data.visitdexter.com/events/details/children-s-story-hour-5299
END:VEVENT

END:VCALENDAR
