BEGIN:VCALENDAR
VERSION:2.0
PRODID:-//ChamberMaster//Event Calendar 2.0//EN
METHOD:PUBLISH
X-PUBLISHED-TTL:P3D
REFRESH-INTERVAL:P3D
CALSCALE:GREGORIAN
BEGIN:VEVENT
DTSTART:20241029T170000Z
DTEND:20241029T183000Z
X-MICROSOFT-CDO-ALLDAYEVENT:FALSE
SUMMARY:Chamber 101
DESCRIPTION:Join us on Tuesday\, October 29th at Noon for Chamber 101!\n\n\n\nWhether you're a new or existing member (or considering joining us)\, Chamber 101 is a great way to connect to the Dexter Chamber!  \n\n\n\nThere's nothing spooky about the Chamber - we can promise you that!\n\nBy attending this orientation\, you will:\n\n\n	Gain a comprehensive understanding of the Chamber's structure and the benefits available to members.\n	Discover ways to maximize your membership and get involved effectively.\n	Explore the Chamber's various programs\, events\, and committees.\n	Learn about the valuable business resources provided by the Chamber and its partners.\n	Understand the Chamber's role in advocating for business interests at the local\, state\, and federal levels.\n	Network with fellow business professionals and connect with new members.\n	Meet experienced Chamber volunteers who will share their stories and insights on active participation.  \n\nChamber 101 is FREE to attend\, thanks to our sponsor\, Bug Zero!  We do kindly ask you RSVP.
X-ALT-DESC;FMTTYPE=text/html:<p><span style="font-size:16px\;"><span style="font-family:arial\;">Join us on Tuesday\, October 29th at Noon for Chamber 101!</span></span><br />\n<br />\n<span style="font-size:16px\;"><span style="font-family:arial\;">Whether you&#39\;re a new or existing member (or considering joining us)\, Chamber 101 is a great way to connect to the Dexter Chamber!&nbsp\;&nbsp\;<br />\n<br />\nThere&#39\;s nothing spooky about the Chamber - we can promise you that!</span></span></p>\n\n<p><span style="font-size:16px\;"><span style="font-family:arial\;">By attending this orientation\, you will:</span></span></p>\n\n<ul>\n	<li><span style="font-size:16px\;"><span style="font-family:arial\;">Gain a comprehensive understanding of the Chamber&#39\;s structure and the benefits available to members.</span></span></li>\n	<li><span style="font-size:16px\;"><span style="font-family:arial\;">Discover ways to maximize your membership and get involved effectively.</span></span></li>\n	<li><span style="font-size:16px\;"><span style="font-family:arial\;">Explore the Chamber&#39\;s various programs\, events\, and committees.</span></span></li>\n	<li><span style="font-size:16px\;"><span style="font-family:arial\;">Learn about the valuable business resources provided by the Chamber and its partners.</span></span></li>\n	<li><span style="font-size:16px\;"><span style="font-family:arial\;">Understand the Chamber&#39\;s role in advocating for business interests at the local\, state\, and federal levels.</span></span></li>\n	<li><span style="font-size:16px\;"><span style="font-family:arial\;">Network with fellow business professionals and connect with new members.</span></span></li>\n	<li><span style="font-size:16px\;"><span style="font-family:arial\;">Meet experienced Chamber volunteers who will share their stories and insights on active participation.&nbsp\; </span></span></li>\n</ul>\n<span style="font-size:16px\;"><span style="font-family:arial\;">Chamber 101 is FREE to attend\, thanks to our sponsor\, Bug Zero!&nbsp\; We do kindly ask you RSVP.</span></span>
LOCATION:Dexter Chamber of Commerce Conference Room 515 W. Market Street\, Suite B Dexter\, Mo 63841
UID:e.2680.5608
SEQUENCE:3
DTSTAMP:20260420T114921Z
URL:https://data.visitdexter.com/events/details/chamber-101-5608
END:VEVENT

END:VCALENDAR
